BEGIN:VCALENDAR
VERSION:2.0
PRODID:-//carillons.ch - ECPv6.15.20//NONSGML v1.0//EN
CALSCALE:GREGORIAN
METHOD:PUBLISH
X-ORIGINAL-URL:https://www.carillons.ch/blog
X-WR-CALDESC:Évènements pour carillons.ch
REFRESH-INTERVAL;VALUE=DURATION:PT1H
X-Robots-Tag:noindex
X-PUBLISHED-TTL:PT1H
BEGIN:VTIMEZONE
TZID:Europe/Zurich
BEGIN:DAYLIGHT
TZOFFSETFROM:+0100
TZOFFSETTO:+0200
TZNAME:CEST
DTSTART:20240331T010000
END:DAYLIGHT
BEGIN:STANDARD
TZOFFSETFROM:+0200
TZOFFSETTO:+0100
TZNAME:CET
DTSTART:20241027T010000
END:STANDARD
BEGIN:DAYLIGHT
TZOFFSETFROM:+0100
TZOFFSETTO:+0200
TZNAME:CEST
DTSTART:20250330T010000
END:DAYLIGHT
BEGIN:STANDARD
TZOFFSETFROM:+0200
TZOFFSETTO:+0100
TZNAME:CET
DTSTART:20251026T010000
END:STANDARD
BEGIN:DAYLIGHT
TZOFFSETFROM:+0100
TZOFFSETTO:+0200
TZNAME:CEST
DTSTART:20260329T010000
END:DAYLIGHT
BEGIN:STANDARD
TZOFFSETFROM:+0200
TZOFFSETTO:+0100
TZNAME:CET
DTSTART:20261025T010000
END:STANDARD
END:VTIMEZONE
BEGIN:VEVENT
DTSTART;TZID=Europe/Zurich:20250503T200000
DTEND;TZID=Europe/Zurich:20250503T211500
DTSTAMP:20260419T175127
CREATED:20250422T140324Z
LAST-MODIFIED:20250422T140740Z
UID:17930-1746302400-1746306900@www.carillons.ch
SUMMARY:Ensemble Axochitl\, el imperio de dos mundos
DESCRIPTION:Concert \n\n\n\nSamedi 3 mai à 20 h \n\n\n\nLieu: Abbaye de Montheron (route de l’Abbaye 3\, 1053 Montheron (Lausanne\, près de Cugy). \n\n\n\nEnsemble Axochitl\, el imperio de dos mundos \n\n\n\nUn voyage musical en nouvelle Espagne \n\n\n\n\n\n\n\nOn découvrira les nouvelles sonorités nées lors de la période coloniale au Mexique. Nous irons à la rencontre des influences italiennes et ibériques tout en explorant certaines impressions européennes sur le Nouveau Monde\, ainsi que des personnalités marquantes de la vie culturelle de la vice-royauté. \n\n\n\nPoésie et drame seront au programme\, nous permettant de raconter cette partie de l’histoire du Mexique\, riche en émotions et en aventures. Ce concert est une invitation à ressentir\, à travers la musique\, les échos d’une époque en pleine transformation\, révélant la richesse et la diversité d’un Mexique en quête de son identité propre. \n\n\n\nZeltzin Pérez Enriquez\, orgue\, Diego Galicia Suarez\, chant\, Miriam Kozak\, violon baroque\, François Stride\, guitare baroques. Entrée libre\, collecte (prix conseillé : 30.- plein\, 20.- réductions). Réservations recommandées : à dt@carillonneur.ch ou 079 391 46 96. \n\n\n\nDossier Musica Hispanica (1)Télécharger\n\n\n\nCV_violon_theorbo-compressedTélécharger
URL:https://www.carillons.ch/blog/event/ensemble-axochitl-el-imperio-de-dos-mundos/
LOCATION:Abbaye de Montheron\, Rte de l’Abbaye 3\, Montheron (Lausanne)\, Vaud\, 1053\, Suisse
CATEGORIES:Abbaye de Montheron,Chant solo,Concert,Guitare,Orgue
ATTACH;FMTTYPE=image/jpeg:https://www.carillons.ch/blog/wp-content/uploads/Collage-mexique-copie.jpeg
END:VEVENT
BEGIN:VEVENT
DTSTART;TZID=Europe/Zurich:20250511T170000
DTEND;TZID=Europe/Zurich:20250511T180000
DTSTAMP:20260419T175127
CREATED:20250422T193437Z
LAST-MODIFIED:20250505T170005Z
UID:17937-1746982800-1746986400@www.carillons.ch
SUMMARY:Chansons En-chantées\, chant et accordéon
DESCRIPTION:Concert \n\n\n\nDimanche 11 mai à 17 h \n\n\n\nLieu: Abbaye de Montheron (route de l’Abbaye 3\, 1053 Montheron (Lausanne\, près de Cugy). \n\n\n\n\n\n\n\nChansons En-chantées \n\n\n\nAvec Larisa Strelnikova (accordéon)\, Laurence Amy et Christian Baur (chant). Music-Hall de poche de chansons de Brel\, Brassens et leur mentor Jean Villard Gilles\, avec lien direct entre La Venoge (dont nous fêtons les 70 ans en 2024 ! ) et qui a inspiré à Brel Le Plat-Pays. \n\n\n\nMusic-Hall de poche de chansons de Brel\, Brassens et leur mentor Jean Villard Gilles\, avec lien direct entre La Venoge (dont nous fêtons les 70 ans en 2024 ! ) et qui a inspiré à Brel Le Plat-Pays.Chansons En-chantéesChaque chanson évoque une question dont nous devons trouver chacun la réponse.Dans notre époque de métamorphoses multiples\, de chamboulements et effondrements\, une nouvelle humanité se dessine\, à la fois glorifiée et effrayante.Les chansons sont de petites gouttes de fraîcheur dans l’incendie du monde d’aujourd’hui. Les revirements de toutes sortes\, de plus en plus visibles\, sont attisés par des boutefeux\, dans une fuite en avant d’orgueil et de convoitises. Des Artistes comme Gilles\, Brassens et Brel en exprimaient une douce dénonciation\, par leurs poèmes et leurs chansons\, appelant à un retour à l’essentiel de nos vies. Nouspouvons être en accord ou non\, leurs chansons nous interrogent\, nous sensibilisent dans leurs subtilités poétiques et éveillent en nous\, comme déclencheurs émotionnels\, ce partage qui nous relie à nous-même face à notre appréhension du monde. Elles restent modernes et intemporelles. \n\n\n\nEntrée libre\, collecte (prix conseillé : 30.- plein\, 20.- réductions). Réservations recommandées : à dt@carillonneur.ch ou 079 391 46 96. \n\n\n\nProgramme \n\n\n\nVariation sur l’Auvergnat (orgue) \n\n\n\nGilles : À l’enseigne de la fille sans coeur\, 1946 \n\n\n\nCaussimon : Nous deux\, 1961 \n\n\n\nMarco : Les Champs-Elysées (accordéon) \n\n\n\nBourvil : C’était bien (le petit bal perdu)\, 1961 \n\n\n\nBrel : J’en appelle\, 1957 \n\n\n\nVariation sur Quand on a que l’amour (orgue) \n\n\n\nBrassens : Chanson pour l’Auvergnat\, 1954* \n\n\n\nBrel : Prière païenne\, 1957 \n\n\n\nQuelle : Le Commissaire Maigret (accordéon) \n\n\n\nBrel : Sur la place\, 1958 \n\n\n\nBrassens : Le parapluie\, 1948 * \n\n\n\nVariation sur Hymne au soleil vaudois (orgue) \n\n\n\nGilles : Les Trois cloches\, 1939 * \n\n\n\nBrassens : Les copains d’abord\, 1965 * \n\n\n\nBrassens : Les copains d’abord (1964) \n\n\n\nGilles : Le bonheur (1966
URL:https://www.carillons.ch/blog/event/chansons-en-chantees-chant-et-accordeon/
LOCATION:Abbaye de Montheron\, Rte de l’Abbaye 3\, Montheron (Lausanne)\, Vaud\, 1053\, Suisse
CATEGORIES:Abbaye de Montheron,ad’Opera Comédie Lyrique,Chant solo,Concert
ATTACH;FMTTYPE=image/jpeg:https://www.carillons.ch/blog/wp-content/uploads/AdOpera-St-Sulpice-photo-chansons-enchanteesE10_2024-05-20_8103_COUL-dev.jpg
END:VEVENT
BEGIN:VEVENT
DTSTART;TZID=Europe/Zurich:20250519T193000
DTEND;TZID=Europe/Zurich:20250519T203000
DTSTAMP:20260419T175127
CREATED:20250422T194431Z
LAST-MODIFIED:20250422T194710Z
UID:17940-1747683000-1747686600@www.carillons.ch
SUMMARY:Au joli mois de mai\, chant\, violon\, basson\, guitare
DESCRIPTION:Concert \n\n\n\nLundi 19 mai à 19 h 30 \n\n\n\nLieu: Abbaye de Montheron (route de l’Abbaye 3\, 1053 Montheron (Lausanne\, près de Cugy). \n\n\n\nAu joli mois de mai \n\n\n\nC’est un programme enchanteur qui célèbre le printemps à travers une ode à la nature\, à l’espoir et au renouveau. Il met en lumière la poésie et la musique du XVIIe siècle\, inspirées par la beauté de la saison des amours\, des rêveries et des paysages florissants.  \n\n\n\n\n\n\n\nCe voyage musical nous transporte à travers l’Espagne\, la France et l’Italie\, avec des pièces aux rythmes dansants et entraînants qui évoquent la légèreté et l’émerveillement des jours ensoleillés. Cependant\, ce périple croise également des âmes en peine\, exprimant la douleur de la trahison et du désamour.  \n\n\n\nLes œuvres de compositeurs tels que Monteverdi\, Hidalgo et Charpentier\, qui figurent parmi les plus représentatifs du programme\, sont de véritables joyaux qui unissent musique et poésie pour honorer la magie du printemps. \n\n\n\nAvec Sofia Rauss\, soprano\, Gastón Gerónimo\, violon baroque\, Jean-Philippe Iracane\, basson baroque\, Gustavo Reyna\, guitare baroque et archiluth et Daniel Thomas aux orgues et clavecin. \n\n\n\nEntrée libre\, collecte (prix conseillé : 30.- plein\, 20.- réductions). Réservations recommandées : à dt@carillonneur.ch ou 079 391 46 96. \n\n\n\nProgramme \n\n\n\nUne jeune fillette – Anonyme \n\n\n\nCanción del Emperador « Mille regretz » – Luys de Narváez \n\n\n\nSans frayeur dans ce bois – Charpentier \n\n\n\nEl baxel está en la playa – Gabriel Bataille \n\n\n\nVuestros ojos tienen d’amor no sé qué – Gabriel Bataille \n\n\n\nCelui qui boit – Pierre de Ronsard \n\n\n\nQui veut chasser une migraine ? – Gabriel Bataille \n\n\n\nCiel\, air et vents\, plains et monts découverts – Pierre de Ronsard \n\n\n\nSonata prima – Dario Castello \n\n\n\nVieni\, vieni in questo seno – Francesco Cavalli \n\n\n\nQuel sguardo sdegnosetto – Claudio Monteverdi \n\n\n\nSi dolcè’l tormento – Claudio Monteverdi \n\n\n\nLa Luciminia contenta – Marco Uccellini \n\n\n\nOh let me weep – Henry Purcell \n\n\n\nMusic for a while – Henry Purcell \n\n\n\nNos désirs sont d’amour – Agrippa d’Aubigné \n\n\n\nPeinándose estaba un olmo… Ay que me río de amor – Juan Hidalgo \n\n\n\nMarizápalos – Anonyme \n\n\n\nJe mourrais de plaisir – Pierre de Ronsard \n\n\n\nOjos pues me desdeñáis – José Marín \n\n\n\nFantasía I – Luis de Milán \n\n\n\nRomerico florido – Mateo Romero
URL:https://www.carillons.ch/blog/event/au-joli-mois-de-mai-chant-violon-basson-guitare/
LOCATION:Abbaye de Montheron\, Rte de l’Abbaye 3\, Montheron (Lausanne)\, Vaud\, 1053\, Suisse
CATEGORIES:Abbaye de Montheron,Chant solo,Concert
ATTACH;FMTTYPE=image/jpeg:https://www.carillons.ch/blog/wp-content/uploads/Montheron-copieaffiche-mai.jpg
END:VEVENT
END:VCALENDAR