BEGIN:VCALENDAR
VERSION:2.0
PRODID:-//carillons.ch - ECPv6.15.20//NONSGML v1.0//EN
CALSCALE:GREGORIAN
METHOD:PUBLISH
X-ORIGINAL-URL:https://www.carillons.ch/blog
X-WR-CALDESC:Évènements pour carillons.ch
REFRESH-INTERVAL;VALUE=DURATION:PT1H
X-Robots-Tag:noindex
X-PUBLISHED-TTL:PT1H
BEGIN:VTIMEZONE
TZID:Europe/Zurich
BEGIN:DAYLIGHT
TZOFFSETFROM:+0100
TZOFFSETTO:+0200
TZNAME:CEST
DTSTART:20250330T010000
END:DAYLIGHT
BEGIN:STANDARD
TZOFFSETFROM:+0200
TZOFFSETTO:+0100
TZNAME:CET
DTSTART:20251026T010000
END:STANDARD
BEGIN:DAYLIGHT
TZOFFSETFROM:+0100
TZOFFSETTO:+0200
TZNAME:CEST
DTSTART:20260329T010000
END:DAYLIGHT
BEGIN:STANDARD
TZOFFSETFROM:+0200
TZOFFSETTO:+0100
TZNAME:CET
DTSTART:20261025T010000
END:STANDARD
BEGIN:DAYLIGHT
TZOFFSETFROM:+0100
TZOFFSETTO:+0200
TZNAME:CEST
DTSTART:20270328T010000
END:DAYLIGHT
BEGIN:STANDARD
TZOFFSETFROM:+0200
TZOFFSETTO:+0100
TZNAME:CET
DTSTART:20271031T010000
END:STANDARD
END:VTIMEZONE
BEGIN:VEVENT
DTSTART;TZID=Europe/Zurich:20260509T190000
DTEND;TZID=Europe/Zurich:20260509T201500
DTSTAMP:20260419T195500
CREATED:20260327T105734Z
LAST-MODIFIED:20260327T110111Z
UID:18341-1778353200-1778357700@www.carillons.ch
SUMMARY:Chœur de jeunes de Prilly à Pully et carillon
DESCRIPTION:Samedi 9 mai 19 h Chœur de jeunes de Prilly\, direction Sofia Rauss\, D. Thomas\, piano\, orgue\, carillonVous êtes l’horizon et nous sommes la mer – un concert joyeux par les voix de l’École de musique de Prilly \n\n\n\nLe chœur d’enfants et d’adolescents vous invite à un concert festif et chaleureux\, ouvert à toute la famille. Voix collectives et solos se répondent à travers un répertoire populaire de tous les temps\, célébrant la liberté\, le partage et la joie de chanter ensemble. \n\n\n\nEntrée libre\, collecte. Informations : à dt@carillonneur.ch ou 079 391 46 96. \n\n\n\nPremière partie au carillon . \n\n\n\n\n\n\n\n1) traditionnel suisse à confirmer \n\n\n\n2) on ira (Zaz) \n\n\n\n3) c’est de l’eau – Les enfantastiques \n\n\n\n4) vois sur ton chemin – les choristes  \n\n\n\n5) ensemble – JJGoldman  \n\n\n\n6) derrière le brouillard – Louane \n\n\n\n7) les champs Élysées – Joe Dassin \n\n\n\n8) je veux – Zaz \n\n\n\n9) La bamba  \n\n\n\n10) Bella ciao \n\n\n\n11) L’oiseau – Belle et Sébastien  \n\n\n\n12) Il faudra leur dire – F. Cabrel \n\n\n\nOn pourrait résumer à : Chansons de Bruno Coulais (ou des Choristes)\, Cabrel\, Dassin\, Goldman…
URL:https://www.carillons.ch/blog/event/choeur-de-jeunes-de-prilly-a-pully-et-carillon/
LOCATION:Eglise de la Rosiaz\, Avenue de Belmont 2\, Pully\, Vaud\, 1009\, Suisse
CATEGORIES:Carillon,Carillon de Chantemerle,Choeur,Concert
ATTACH;FMTTYPE=image/jpeg:https://www.carillons.ch/blog/wp-content/uploads/choeur-de-Prilly-copie.jpeg
END:VEVENT
BEGIN:VEVENT
DTSTART;TZID=Europe/Zurich:20260514T190000
DTEND;TZID=Europe/Zurich:20260514T194500
DTSTAMP:20260419T195500
CREATED:20230329T085423Z
LAST-MODIFIED:20260327T103950Z
UID:16682-1778785200-1778787900@www.carillons.ch
SUMMARY:Carillon de l’Ascension
DESCRIPTION:Concert  \n\n\n\nJeudi14 mai 2026 19 h  Carillon de l’Ascension \n\n\n\nÉglise de la Rosiaz\, Avenue de Belmont 3 \, 1009 Pully \n\n\n\nDaniel Thomas au carillon de 48 cloches\, 4 octaves. Chorals de l’Ascension et musiques printanières. Accès libre\, collecte. Après le concert\, il est possible de visiter le carillon. Informations à dt@carillonneur.ch ou 079 391 46 96. \n\n\n\n\n\n\n\nAu programme :  \n\n\n\nLa gentile    anonyme flamand (De Prins 20) \n\n\n\nJ. F. Knapp Hymne anglican «  Blessed Assurance  » \n\n\n\nHeal the World from « Dangerous » (1991) Composer Michael Jackson  Arranger Tiffany Ng \n\n\n\nPetit prélude pour carillon (Belgique 1967\,  Jean-Claude Molle) \n\n\n\nChrist fuhr gen Himmel\, choral luthérien de l’Ascension \n\n\n\nSur tous les temps\, sur tous les lieux (Gen Himmel aufgefahren ist) hymne de l’Ascension \n\n\n\nRobert Carr\, 1686 Variations sur une chaconne italienne \n\n\n\nChrist fuhr gen Himmel\, version à trois voix de Leipzig 1545 \n\n\n\nHymne de l’Ascension  : «  Chantons le jour de la victoire  » \n\n\n\nAu carillon\, Daniel Thomas
URL:https://www.carillons.ch/blog/event/carillon-de-lascension/
LOCATION:Eglise de la Rosiaz\, Avenue de Belmont 2\, Pully\, Vaud\, 1009\, Suisse
CATEGORIES:Carillon,Carillon de Chantemerle,Concert
ATTACH;FMTTYPE=image/jpeg:https://www.carillons.ch/blog/wp-content/uploads/rosiaz-carillon-chantemerle-copie.jpg
END:VEVENT
BEGIN:VEVENT
DTSTART;TZID=Europe/Zurich:20260524T153000
DTEND;TZID=Europe/Zurich:20260524T161500
DTSTAMP:20260419T195500
CREATED:20230329T090800Z
LAST-MODIFIED:20260327T104233Z
UID:16684-1779636600-1779639300@www.carillons.ch
SUMMARY:Carillon de la Pentecôte
DESCRIPTION:Concert  \n\n\n\nDimanche 24 mai 2026 à 15 h 30 Carillon de la Pentecôte. \n\n\n\nÉglise de la Rosiaz\, Avenue de Belmont 3 \, 1009 Pully \n\n\n\nDaniel Thomas au carillon de 48 cloches\, 4 octaves. Chorals de la Pentecôte\, envols et contredanses. Accès libre\, collecte. Après le concert\, il est possible de voir le carillon. Informations à dt@carillonneur.ch ou 079 391 46 96. \n\n\n\n\n\n\n\nAu programme :  \n\n\n\nAu programme : En marchant vers toi Seigneur Prose ancienneJohann Ephraïm Eggert (des 26 Chorals de Danzig pour carillon\, 1784) Choral “O Heilger Geist\, kehr bei uns ein”Alle Vögel sind schon da  oiseaux du printempsMélodie irlandaise «  jig  » (Morrisson)Orlando Gibbons love of the Father hymne de PentecôteSamuel Wesley O thou who camest from above hymne de PentecôteJoachim van den Hove (1567-1620) Ballet\, Fortuna AngleseJakob Van Eyck (1590-1657) Vande Lombart (et variations)Contredanse anglaise anciennes (arr. A. B. Speckner)  : contredanse no 21 (Musette)Alan Wilson Come Holy Ghost (Vien Saint-Esprit) Hymne de PentecôteO Peter go ring dem bells (Pierre\, sonne les cloches) SpiritualEnglish carol Jacob’s Ladder L’échelle de Jacob \n\n\n\nAu carillon\, Daniel Thomas
URL:https://www.carillons.ch/blog/event/carillon-de-la-pentecote/
LOCATION:Eglise de la Rosiaz\, Avenue de Belmont 2\, Pully\, Vaud\, 1009\, Suisse
CATEGORIES:Carillon,Carillon de Chantemerle,Concert
ATTACH;FMTTYPE=image/jpeg:https://www.carillons.ch/blog/wp-content/uploads/pully-rosiaz_Fotor2.jpg
END:VEVENT
END:VCALENDAR